BEGIN:VCALENDAR
VERSION:2.0
PRODID:-//PYVOBJECT//NONSGML Version 0.9.9//EN
BEGIN:VTIMEZONE
TZID:CET
BEGIN:STANDARD
DTSTART:20001029T040000
RRULE:FREQ=YEARLY;BYDAY=-1SU;BYMONTH=10
TZNAME:CET
TZOFFSETFROM:+0200
TZOFFSETTO:+0100
END:STANDARD
BEGIN:DAYLIGHT
DTSTART:20000326T030000
RRULE:FREQ=YEARLY;BYDAY=-1SU;BYMONTH=3
TZNAME:CEST
TZOFFSETFROM:+0100
TZOFFSETTO:+0200
END:DAYLIGHT
END:VTIMEZONE
BEGIN:VEVENT
UID:event-14
DTSTART;TZID=CET:20220701T150000
DTEND;TZID=CET:20220701T220000
DESCRIPTION:Alumni-Regionalkongress UniBw LEIPZIG 1.7.2022 - Veranstaltung
DTSTAMP:20260419T140752Z
GEO:51.3281016,12.3295596
LOCATION:Industriestr. 95\, 04229 Leipzig
SUMMARY:Alumni-Regionalkongress UniBw LEIPZIG 1.7.2022
URL:https://alumniunibw.de/events/14/
END:VEVENT
END:VCALENDAR
