BEGIN:VCALENDAR
VERSION:2.0
PRODID:-//PYVOBJECT//NONSGML Version 0.9.9//EN
BEGIN:VTIMEZONE
TZID:CET
BEGIN:STANDARD
DTSTART:20001029T040000
RRULE:FREQ=YEARLY;BYDAY=-1SU;BYMONTH=10
TZNAME:CET
TZOFFSETFROM:+0200
TZOFFSETTO:+0100
END:STANDARD
BEGIN:DAYLIGHT
DTSTART:20000326T030000
RRULE:FREQ=YEARLY;BYDAY=-1SU;BYMONTH=3
TZNAME:CEST
TZOFFSETFROM:+0100
TZOFFSETTO:+0200
END:DAYLIGHT
END:VTIMEZONE
BEGIN:VEVENT
UID:event-26
DTSTART;TZID=CET:20220920T173000
DTEND;TZID=CET:20220920T193000
DESCRIPTION:Umgang mit psychischen Belastungen am Arbeitsplatz - Vortrag
DTSTAMP:20260419T141510Z
GEO:53.54528005,9.967478802047875
LOCATION:Landungsbrücken - Brücke 1\, 20359 Hamburg
SUMMARY:Umgang mit psychischen Belastungen am Arbeitsplatz
URL:https://alumniunibw.de/events/26/
END:VEVENT
END:VCALENDAR
